BEGIN:VCALENDAR
VERSION:2.0
PRODID:-//SC Aartswoud - ECPv6.15.20//NONSGML v1.0//EN
CALSCALE:GREGORIAN
METHOD:PUBLISH
X-ORIGINAL-URL:https://scaartswoud.nl
X-WR-CALDESC:Evenementen voor SC Aartswoud
REFRESH-INTERVAL;VALUE=DURATION:PT1H
X-Robots-Tag:noindex
X-PUBLISHED-TTL:PT1H
BEGIN:VTIMEZONE
TZID:Europe/Helsinki
BEGIN:DAYLIGHT
TZOFFSETFROM:+0200
TZOFFSETTO:+0300
TZNAME:EEST
DTSTART:20250330T010000
END:DAYLIGHT
BEGIN:STANDARD
TZOFFSETFROM:+0300
TZOFFSETTO:+0200
TZNAME:EET
DTSTART:20251026T010000
END:STANDARD
BEGIN:DAYLIGHT
TZOFFSETFROM:+0200
TZOFFSETTO:+0300
TZNAME:EEST
DTSTART:20260329T010000
END:DAYLIGHT
BEGIN:STANDARD
TZOFFSETFROM:+0300
TZOFFSETTO:+0200
TZNAME:EET
DTSTART:20261025T010000
END:STANDARD
BEGIN:DAYLIGHT
TZOFFSETFROM:+0200
TZOFFSETTO:+0300
TZNAME:EEST
DTSTART:20270328T010000
END:DAYLIGHT
BEGIN:STANDARD
TZOFFSETFROM:+0300
TZOFFSETTO:+0200
TZNAME:EET
DTSTART:20271031T010000
END:STANDARD
END:VTIMEZONE
BEGIN:VEVENT
DTSTART;TZID=Europe/Helsinki:20260306T130000
DTEND;TZID=Europe/Helsinki:20260306T170000
DTSTAMP:20260422T111805
CREATED:20251005T174426Z
LAST-MODIFIED:20251005T174426Z
UID:8014-1772802000-1772816400@scaartswoud.nl
SUMMARY:Ronde 6: Aartswoud 2 - De Waagtoren 4
DESCRIPTION:
URL:https://scaartswoud.nl/event/ronde-6-aartswoud-2-de-waagtoren-4/
END:VEVENT
BEGIN:VEVENT
DTSTART;TZID=Europe/Helsinki:20260306T194500
DTEND;TZID=Europe/Helsinki:20260306T234500
DTSTAMP:20260422T111805
CREATED:20250830T142949Z
LAST-MODIFIED:20250830T142949Z
UID:7928-1772826300-1772840700@scaartswoud.nl
SUMMARY:Interne
DESCRIPTION:
URL:https://scaartswoud.nl/event/interne-27/
END:VEVENT
BEGIN:VEVENT
DTSTART;TZID=Europe/Helsinki:20260307T130000
DTEND;TZID=Europe/Helsinki:20260307T170000
DTSTAMP:20260422T111805
CREATED:20250830T143150Z
LAST-MODIFIED:20251005T174254Z
UID:7946-1772888400-1772902800@scaartswoud.nl
SUMMARY:Ronde 8: Aartswoud 1 - Het Spaarne 1
DESCRIPTION:
URL:https://scaartswoud.nl/event/ronde-8-aartswoud-1-het-spaarne-1/
END:VEVENT
BEGIN:VEVENT
DTSTART;TZID=Europe/Helsinki:20260307T130000
DTEND;TZID=Europe/Helsinki:20260307T170000
DTSTAMP:20260422T111805
CREATED:20251005T174337Z
LAST-MODIFIED:20251005T174337Z
UID:8001-1772888400-1772902800@scaartswoud.nl
SUMMARY:Ronde 7: Aartswoud 2 - HHW Pietbulls 1
DESCRIPTION:
URL:https://scaartswoud.nl/event/ronde-7-aartswoud-2-hhw-pietbulls-1/
END:VEVENT
BEGIN:VEVENT
DTSTART;TZID=Europe/Helsinki:20260310T130000
DTEND;TZID=Europe/Helsinki:20260310T170000
DTSTAMP:20260422T111805
CREATED:20251005T174357Z
LAST-MODIFIED:20251005T174357Z
UID:8007-1773147600-1773162000@scaartswoud.nl
SUMMARY:Ronde 6: Krommenie N1 - Aartswoud N1
DESCRIPTION:
URL:https://scaartswoud.nl/event/ronde-6-krommenie-n1-aartswoud-n1/
END:VEVENT
BEGIN:VEVENT
DTSTART;TZID=Europe/Helsinki:20260313T194500
DTEND;TZID=Europe/Helsinki:20260313T234500
DTSTAMP:20260422T111805
CREATED:20250830T142950Z
LAST-MODIFIED:20250830T142950Z
UID:7929-1773431100-1773445500@scaartswoud.nl
SUMMARY:Interne
DESCRIPTION:
URL:https://scaartswoud.nl/event/interne-28/
END:VEVENT
BEGIN:VEVENT
DTSTART;TZID=Europe/Helsinki:20260317T130000
DTEND;TZID=Europe/Helsinki:20260317T170000
DTSTAMP:20260422T111805
CREATED:20251005T174442Z
LAST-MODIFIED:20251005T174442Z
UID:8020-1773752400-1773766800@scaartswoud.nl
SUMMARY:Ronde 5: Degoschalm - Aartswoud 3
DESCRIPTION:
URL:https://scaartswoud.nl/event/ronde-5-degoschalm-aartswoud-3/
END:VEVENT
BEGIN:VEVENT
DTSTART;TZID=Europe/Helsinki:20260320T194500
DTEND;TZID=Europe/Helsinki:20260320T234500
DTSTAMP:20260422T111805
CREATED:20250830T142950Z
LAST-MODIFIED:20250830T142950Z
UID:7930-1774035900-1774050300@scaartswoud.nl
SUMMARY:Interne
DESCRIPTION:
URL:https://scaartswoud.nl/event/interne-29/
END:VEVENT
BEGIN:VEVENT
DTSTART;TZID=Europe/Helsinki:20260327T130000
DTEND;TZID=Europe/Helsinki:20260327T170000
DTSTAMP:20260422T111805
CREATED:20251005T174357Z
LAST-MODIFIED:20251005T174357Z
UID:8008-1774616400-1774630800@scaartswoud.nl
SUMMARY:Ronde 7: Aartswoud N1 - Aris de Heer N1
DESCRIPTION:
URL:https://scaartswoud.nl/event/ronde-7-aartswoud-n1-aris-de-heer-n1/
END:VEVENT
BEGIN:VEVENT
DTSTART;TZID=Europe/Helsinki:20260327T194500
DTEND;TZID=Europe/Helsinki:20260327T234500
DTSTAMP:20260422T111805
CREATED:20250830T142951Z
LAST-MODIFIED:20250830T142951Z
UID:7931-1774640700-1774655100@scaartswoud.nl
SUMMARY:Interne
DESCRIPTION:
URL:https://scaartswoud.nl/event/interne-30/
END:VEVENT
END:VCALENDAR